BEGIN:VCALENDAR
VERSION:2.0
PRODID:-//PRODELEC - ECPv6.15.20//NONSGML v1.0//EN
CALSCALE:GREGORIAN
METHOD:PUBLISH
X-WR-CALNAME:PRODELEC
X-ORIGINAL-URL:https://prodelec.online
X-WR-CALDESC:Eventos para PRODELEC
REFRESH-INTERVAL;VALUE=DURATION:PT1H
X-Robots-Tag:noindex
X-PUBLISHED-TTL:PT1H
BEGIN:VTIMEZONE
TZID:America/Mexico_City
BEGIN:STANDARD
TZOFFSETFROM:-0600
TZOFFSETTO:-0600
TZNAME:CST
DTSTART:20250101T000000
END:STANDARD
END:VTIMEZONE
BEGIN:VEVENT
DTSTART;TZID=America/Mexico_City:20260416T120000
DTEND;TZID=America/Mexico_City:20260416T140000
DTSTAMP:20260425T055351
CREATED:20260318T182953Z
LAST-MODIFIED:20260418T191531Z
UID:54886-1776340800-1776348000@prodelec.online
SUMMARY:Curso Códigos de Red en México | Schneider Electric
DESCRIPTION:Nombre completo:\n \n \n Correo electrónico:\n \n \n Numero telefónico:\n \n \n Curso a tomar:\n \n \n Dudas o comentarios (opcional)\n \n \n\n ×
URL:https://prodelec.online/eventos/curso-codigos-de-red-en-mexico-schneider-electric/
LOCATION:Sala Capacitación Prodelec\, Av Ocampo 1155\, Morelia\, Michoacan\, 58060\, Mexico
CATEGORIES:Terminado
ATTACH;FMTTYPE=image/jpeg:https://prodelec.online/wp-content/uploads/Codigos-de-Red-Curso_1.jpg
END:VEVENT
END:VCALENDAR